BEGIN:VCALENDAR
VERSION:2.0
PRODID:-//ChamberMaster//Event Calendar 2.0//EN
METHOD:PUBLISH
X-PUBLISHED-TTL:P1H
REFRESH-INTERVAL:P1H
CALSCALE:GREGORIAN
BEGIN:VTIMEZONE
TZID:America/New_York
BEGIN:DAYLIGHT
RRULE:FREQ=YEARLY;BYMONTH=3;BYDAY=2SU
DTSTART:20070101T000000
TZOFFSETFROM:-0500
TZOFFSETTO:-0400
TZNAME:Eastern Daylight Time
END:DAYLIGHT
BEGIN:STANDARD
RRULE:FREQ=YEARLY;BYMONTH=11;BYDAY=1SU
DTSTART:20070101T000000
TZOFFSETFROM:-0400
TZOFFSETTO:-0500
TZNAME:Eastern Standard Time
END:STANDARD
END:VTIMEZONE
BEGIN:VEVENT
DTSTART;TZID=America/New_York:20221208T170000
DTEND;TZID=America/New_York:20221208T190000
X-MICROSOFT-CDO-ALLDAYEVENT:FALSE
SUMMARY:Chamber Community Connection: Hosted by The Exchange Hotel (presented by Valley Bank)
DESCRIPTION:Every second Thursday\, St. Pete Chamber members come together at a different location every month for an evening of fun\, networking\, prizes and connections. For the December 8th CCC event. The Exchange Hotel will be hosting us with complimentary Hors-devours + BOGO drinks! Join us for a great night networking with your fellow members! Interested in providing a door prize? Contact events coordinator Cristi Livingston at clivingston@stpete.com\n\nParking Options: Hotel ValetSundial Parking GarageStreet side - park mobile pay app
X-ALT-DESC;FMTTYPE=text/html:<!DOCTYPE html><html><head><title></title></head><body aria-disabled="false"><p>Every second Thursday\, St. Pete Chamber members come together at a different location every month for an evening of fun\, networking\, prizes and connections. For the December 8th CCC event. The Exchange Hotel will be hosting us with complimentary Hors-devours + BOGO drinks! Join us for a great night networking with your fellow members! Interested in providing a door prize? Contact events coordinator Cristi Livingston at <a fr-original-style="" href="mailto:clivingston@stpete.com" style="user-select: auto\;">clivingston@stpete.com</a></p><p><br></p><p><br></p><p>Parking Options:&nbsp\;</p><p>Hotel Valet</p><p>Sundial Parking Garage</p><p>Street side - park mobile pay app</p><p><br></p></body></html>
LOCATION:234 3rd Ave N St Petersburg FL 33701
UID:e.2658.691199
SEQUENCE:3
DTSTAMP:20260426T032041Z
URL:https://stpetersburgareachamberofcommercespacc.growthzoneapp.com/eventcalendar/Details/chamber-community-connection-hosted-by-the-exchange-hotel-presented-by-valley-bank-741053?sourceTypeId=Hub
END:VEVENT
END:VCALENDAR
